BEGIN:VCALENDAR
VERSION:2.0
CALSCALE:GREGORIAN
PRODID:adamgibbons/ics
METHOD:PUBLISH
X-PUBLISHED-TTL:PT1H
BEGIN:VEVENT
UID:14@192.168.178.22
SUMMARY:Soople keuken
DTSTAMP:20260422T101829Z
DTSTART:20260513T060000Z
DTEND:20260513T150000Z
URL:http://192.168.178.22:13122/event/soople-keuken
LOCATION:arnhem - arnhem
STATUS:CONFIRMED
CATEGORIES:
BEGIN:VALARM
ACTION:DISPLAY
DESCRIPTION:Soople keuken
TRIGGER:-PT1H
END:VALARM
END:VEVENT
END:VCALENDAR
