BEGIN:VCALENDAR
VERSION:2.0
CALSCALE:GREGORIAN
PRODID:adamgibbons/ics
METHOD:PUBLISH
X-PUBLISHED-TTL:PT1H
BEGIN:VEVENT
UID:3@192.168.178.22
SUMMARY:keuken bewoond hegeman
DTSTAMP:20260422T103156Z
DTSTART:20260416T060000Z
DTEND:20260416T150000Z
DESCRIPTION:Colijnstraat 30\, Velp.
URL:http://192.168.178.22:13122/event/keuken-bewoond-hegeman-1
LOCATION:velp - Velp
STATUS:CONFIRMED
CATEGORIES:
X-ALT-DESC;FMTTYPE=text/html:<p>Colijnstraat 30, Velp.</p>
BEGIN:VALARM
ACTION:DISPLAY
DESCRIPTION:keuken bewoond hegeman
TRIGGER:-PT1H
END:VALARM
END:VEVENT
END:VCALENDAR
